BEGIN:VCALENDAR
VERSION:2.0
PRODID:-//GHS Performing Arts Boosters - ECPv6.15.20//NONSGML v1.0//EN
CALSCALE:GREGORIAN
METHOD:PUBLISH
X-ORIGINAL-URL:https://ghspabc.org
X-WR-CALDESC:Events for GHS Performing Arts Boosters
REFRESH-INTERVAL;VALUE=DURATION:PT1H
X-Robots-Tag:noindex
X-PUBLISHED-TTL:PT1H
BEGIN:VTIMEZONE
TZID:America/New_York
BEGIN:DAYLIGHT
TZOFFSETFROM:-0500
TZOFFSETTO:-0400
TZNAME:EDT
DTSTART:20250309T070000
END:DAYLIGHT
BEGIN:STANDARD
TZOFFSETFROM:-0400
TZOFFSETTO:-0500
TZNAME:EST
DTSTART:20251102T060000
END:STANDARD
BEGIN:DAYLIGHT
TZOFFSETFROM:-0500
TZOFFSETTO:-0400
TZNAME:EDT
DTSTART:20260308T070000
END:DAYLIGHT
BEGIN:STANDARD
TZOFFSETFROM:-0400
TZOFFSETTO:-0500
TZNAME:EST
DTSTART:20261101T060000
END:STANDARD
BEGIN:DAYLIGHT
TZOFFSETFROM:-0500
TZOFFSETTO:-0400
TZNAME:EDT
DTSTART:20270314T070000
END:DAYLIGHT
BEGIN:STANDARD
TZOFFSETFROM:-0400
TZOFFSETTO:-0500
TZNAME:EST
DTSTART:20271107T060000
END:STANDARD
END:VTIMEZONE
BEGIN:VEVENT
DTSTART;TZID=America/New_York:20260420T143000
DTEND;TZID=America/New_York:20260420T163000
DTSTAMP:20260424T155047
CREATED:20260218T060052Z
LAST-MODIFIED:20260218T060638Z
UID:267-1776695400-1776702600@ghspabc.org
SUMMARY:Orchestra Rehearsal (on stage)
DESCRIPTION:
URL:https://ghspabc.org/calendar/orchestra-rehearsal-on-stage-4/
CATEGORIES:Orchestra
END:VEVENT
BEGIN:VEVENT
DTSTART;TZID=America/New_York:20260313T000000
DTEND;TZID=America/New_York:20260314T000000
DTSTAMP:20260424T155047
CREATED:20260218T055802Z
LAST-MODIFIED:20260218T060733Z
UID:257-1773360000-1773446400@ghspabc.org
SUMMARY:Orchestra Assessment
DESCRIPTION:
URL:https://ghspabc.org/calendar/orchestra-assessment/
CATEGORIES:Orchestra
END:VEVENT
BEGIN:VEVENT
DTSTART;TZID=America/New_York:20260310T143000
DTEND;TZID=America/New_York:20260310T163000
DTSTAMP:20260424T155047
CREATED:20260218T055800Z
LAST-MODIFIED:20260218T060907Z
UID:254-1773153000-1773160200@ghspabc.org
SUMMARY:Orchestra Dress Rehearsal (on stage)
DESCRIPTION:
URL:https://ghspabc.org/calendar/orchestra-dress-rehearsal-on-stage/
CATEGORIES:Orchestra
END:VEVENT
BEGIN:VEVENT
DTSTART;TZID=America/New_York:20260305T143000
DTEND;TZID=America/New_York:20260305T153000
DTSTAMP:20260424T155047
CREATED:20260218T055746Z
LAST-MODIFIED:20260218T060848Z
UID:252-1772721000-1772724600@ghspabc.org
SUMMARY:Orchestra Rehearsal (on stage)
DESCRIPTION:
URL:https://ghspabc.org/calendar/orchestra-rehearsal-on-stage-3/
CATEGORIES:Orchestra
END:VEVENT
BEGIN:VEVENT
DTSTART;TZID=America/New_York:20260304T000000
DTEND;TZID=America/New_York:20260307T000000
DTSTAMP:20260424T155047
CREATED:20260218T055746Z
LAST-MODIFIED:20260218T060923Z
UID:251-1772582400-1772841600@ghspabc.org
SUMMARY:ACDA Regional Conference
DESCRIPTION:
URL:https://ghspabc.org/calendar/acda-regional-conference/
CATEGORIES:Band,Choir,Orchestra,Theater
END:VEVENT
BEGIN:VEVENT
DTSTART;TZID=America/New_York:20260228T000000
DTEND;TZID=America/New_York:20260228T000000
DTSTAMP:20260424T155047
CREATED:20260218T055737Z
LAST-MODIFIED:20260218T060844Z
UID:247-1772236800-1772236800@ghspabc.org
SUMMARY:All Virginia Band and Orchestra Auditions
DESCRIPTION:
URL:https://ghspabc.org/calendar/all-virginia-band-and-orchestra-auditions/
CATEGORIES:Band,Orchestra
END:VEVENT
BEGIN:VEVENT
DTSTART;TZID=America/New_York:20260225T190000
DTEND;TZID=America/New_York:20260225T210000
DTSTAMP:20260424T155047
CREATED:20260218T055737Z
LAST-MODIFIED:20260218T060914Z
UID:245-1772046000-1772053200@ghspabc.org
SUMMARY:Orchestra Pre-Assessment Concert
DESCRIPTION:
URL:https://ghspabc.org/calendar/orchestra-pre-assessment-concert/
CATEGORIES:Orchestra
END:VEVENT
BEGIN:VEVENT
DTSTART;TZID=America/New_York:20260219T143000
DTEND;TZID=America/New_York:20260219T163000
DTSTAMP:20260424T155047
CREATED:20260218T054343Z
LAST-MODIFIED:20260218T060836Z
UID:233-1771511400-1771518600@ghspabc.org
SUMMARY:Orchestra rehearsal (on stage)
DESCRIPTION:
URL:https://ghspabc.org/calendar/orchestra-rehearsal-on-stage-2/
CATEGORIES:Orchestra
END:VEVENT
BEGIN:VEVENT
DTSTART;TZID=America/New_York:20260212T143000
DTEND;TZID=America/New_York:20260212T153000
DTSTAMP:20260424T155047
CREATED:20260218T052217Z
LAST-MODIFIED:20260218T060832Z
UID:213-1770906600-1770910200@ghspabc.org
SUMMARY:Orchestra rehearsal (on stage)
DESCRIPTION:
URL:https://ghspabc.org/calendar/orchestra-rehearsal-on-stage/
CATEGORIES:Orchestra
END:VEVENT
BEGIN:VEVENT
DTSTART;VALUE=DATE:20260212
DTEND;VALUE=DATE:20260215
DTSTAMP:20260424T155047
CREATED:20260218T054135Z
LAST-MODIFIED:20260218T060826Z
UID:224-1770854400-1771113599@ghspabc.org
SUMMARY:All County Orchestra snow date (@FPHS)
DESCRIPTION:
URL:https://ghspabc.org/calendar/all-county-orchestra-snow-date-fphs/
CATEGORIES:Orchestra
END:VEVENT
BEGIN:VEVENT
DTSTART;VALUE=DATE:20260206
DTEND;VALUE=DATE:20260208
DTSTAMP:20260424T155047
CREATED:20260218T052147Z
LAST-MODIFIED:20260218T060812Z
UID:211-1770336000-1770508799@ghspabc.org
SUMMARY:District Choir event (@PHS)
DESCRIPTION:
URL:https://ghspabc.org/calendar/district-choir-event-phs/
CATEGORIES:Orchestra
END:VEVENT
BEGIN:VEVENT
DTSTART;TZID=America/New_York:20260205T143000
DTEND;TZID=America/New_York:20260205T150000
DTSTAMP:20260424T155047
CREATED:20260218T052056Z
LAST-MODIFIED:20260218T060809Z
UID:207-1770301800-1770303600@ghspabc.org
SUMMARY:Orchestra rehearsal (in room)
DESCRIPTION:
URL:https://ghspabc.org/calendar/orchestra-rehearsal-in-room/
CATEGORIES:Orchestra
END:VEVENT
BEGIN:VEVENT
DTSTART;VALUE=DATE:20260129
DTEND;VALUE=DATE:20260201
DTSTAMP:20260424T155047
CREATED:20260218T051947Z
LAST-MODIFIED:20260218T060802Z
UID:203-1769644800-1769903999@ghspabc.org
SUMMARY:All County Orchestra event (@FPHS)
DESCRIPTION:
URL:https://ghspabc.org/calendar/all-county-orchestra-event-fphs/
CATEGORIES:Orchestra
END:VEVENT
END:VCALENDAR