BEGIN:VCALENDAR
VERSION:2.0
PRODID:-//GHS Performing Arts Boosters - ECPv6.15.20//NONSGML v1.0//EN
CALSCALE:GREGORIAN
METHOD:PUBLISH
X-WR-CALNAME:GHS Performing Arts Boosters
X-ORIGINAL-URL:https://ghspabc.org
X-WR-CALDESC:Events for GHS Performing Arts Boosters
REFRESH-INTERVAL;VALUE=DURATION:PT1H
X-Robots-Tag:noindex
X-PUBLISHED-TTL:PT1H
BEGIN:VTIMEZONE
TZID:America/New_York
BEGIN:DAYLIGHT
TZOFFSETFROM:-0500
TZOFFSETTO:-0400
TZNAME:EDT
DTSTART:20250309T070000
END:DAYLIGHT
BEGIN:STANDARD
TZOFFSETFROM:-0400
TZOFFSETTO:-0500
TZNAME:EST
DTSTART:20251102T060000
END:STANDARD
BEGIN:DAYLIGHT
TZOFFSETFROM:-0500
TZOFFSETTO:-0400
TZNAME:EDT
DTSTART:20260308T070000
END:DAYLIGHT
BEGIN:STANDARD
TZOFFSETFROM:-0400
TZOFFSETTO:-0500
TZNAME:EST
DTSTART:20261101T060000
END:STANDARD
BEGIN:DAYLIGHT
TZOFFSETFROM:-0500
TZOFFSETTO:-0400
TZNAME:EDT
DTSTART:20270314T070000
END:DAYLIGHT
BEGIN:STANDARD
TZOFFSETFROM:-0400
TZOFFSETTO:-0500
TZNAME:EST
DTSTART:20271107T060000
END:STANDARD
END:VTIMEZONE
BEGIN:VEVENT
DTSTART;TZID=America/New_York:20260411T140000
DTEND;TZID=America/New_York:20260411T210000
DTSTAMP:20260424T152524
CREATED:20260218T060051Z
LAST-MODIFIED:20260218T060051Z
UID:265-1775916000-1775941200@ghspabc.org
SUMMARY:Spring Play
DESCRIPTION:
URL:https://ghspabc.org/calendar/spring-play-3/
CATEGORIES:Theater
END:VEVENT
BEGIN:VEVENT
DTSTART;TZID=America/New_York:20260410T190000
DTEND;TZID=America/New_York:20260410T210000
DTSTAMP:20260424T152524
CREATED:20260218T060051Z
LAST-MODIFIED:20260218T060051Z
UID:264-1775847600-1775854800@ghspabc.org
SUMMARY:Spring Play
DESCRIPTION:
URL:https://ghspabc.org/calendar/spring-play-2/
CATEGORIES:Theater
END:VEVENT
BEGIN:VEVENT
DTSTART;TZID=America/New_York:20260409T190000
DTEND;TZID=America/New_York:20260409T210000
DTSTAMP:20260424T152524
CREATED:20260218T055852Z
LAST-MODIFIED:20260218T060633Z
UID:263-1775761200-1775768400@ghspabc.org
SUMMARY:Spring Play
DESCRIPTION:
URL:https://ghspabc.org/calendar/spring-play/
CATEGORIES:Theater
END:VEVENT
BEGIN:VEVENT
DTSTART;TZID=America/New_York:20260408T000000
DTEND;TZID=America/New_York:20260408T000000
DTSTAMP:20260424T152524
CREATED:20260218T055852Z
LAST-MODIFIED:20260218T060657Z
UID:262-1775606400-1775606400@ghspabc.org
SUMMARY:Play Final Dress
DESCRIPTION:
URL:https://ghspabc.org/calendar/play-final-dress/
CATEGORIES:Theater
END:VEVENT
BEGIN:VEVENT
DTSTART;TZID=America/New_York:20260407T000000
DTEND;TZID=America/New_York:20260407T000000
DTSTAMP:20260424T152524
CREATED:20260218T055852Z
LAST-MODIFIED:20260218T060652Z
UID:261-1775520000-1775520000@ghspabc.org
SUMMARY:Last Day of Tech for Play
DESCRIPTION:
URL:https://ghspabc.org/calendar/last-day-of-tech-for-play/
CATEGORIES:Theater
END:VEVENT
BEGIN:VEVENT
DTSTART;TZID=America/New_York:20260323T000000
DTEND;TZID=America/New_York:20260327T000000
DTSTAMP:20260424T152524
CREATED:20260218T055851Z
LAST-MODIFIED:20260218T060703Z
UID:260-1774224000-1774569600@ghspabc.org
SUMMARY:Spring Play Tech Week
DESCRIPTION:
URL:https://ghspabc.org/calendar/spring-play-tech-week/
CATEGORIES:Theater
END:VEVENT
BEGIN:VEVENT
DTSTART;TZID=America/New_York:20260321T000000
DTEND;TZID=America/New_York:20260321T000000
DTSTAMP:20260424T152524
CREATED:20260218T055851Z
LAST-MODIFIED:20260218T060722Z
UID:259-1774051200-1774051200@ghspabc.org
SUMMARY:Spring Play Q to Q
DESCRIPTION:
URL:https://ghspabc.org/calendar/spring-play-q-to-q/
CATEGORIES:Theater
END:VEVENT
BEGIN:VEVENT
DTSTART;TZID=America/New_York:20260304T000000
DTEND;TZID=America/New_York:20260307T000000
DTSTAMP:20260424T152524
CREATED:20260218T055746Z
LAST-MODIFIED:20260218T060923Z
UID:251-1772582400-1772841600@ghspabc.org
SUMMARY:ACDA Regional Conference
DESCRIPTION:
URL:https://ghspabc.org/calendar/acda-regional-conference/
CATEGORIES:Band,Choir,Orchestra,Theater
END:VEVENT
BEGIN:VEVENT
DTSTART;VALUE=DATE:20260213
DTEND;VALUE=DATE:20260214
DTSTAMP:20260424T152524
CREATED:20260218T054204Z
LAST-MODIFIED:20260218T054218Z
UID:226-1770940800-1771027199@ghspabc.org
SUMMARY:One Act Theatre performance
DESCRIPTION:
URL:https://ghspabc.org/calendar/one-act-theatre-performance/
CATEGORIES:Theater
END:VEVENT
BEGIN:VEVENT
DTSTART;VALUE=DATE:20260124
DTEND;VALUE=DATE:20260125
DTSTAMP:20260424T152524
CREATED:20260218T051855Z
LAST-MODIFIED:20260218T051855Z
UID:201-1769212800-1769299199@ghspabc.org
SUMMARY:VHSL Theatre (Patriot)
DESCRIPTION:
URL:https://ghspabc.org/calendar/vhsl-theatre-patriot/
CATEGORIES:Theater
END:VEVENT
BEGIN:VEVENT
DTSTART;VALUE=DATE:20260106
DTEND;VALUE=DATE:20260108
DTSTAMP:20260424T152524
CREATED:20260218T051725Z
LAST-MODIFIED:20260218T051914Z
UID:194-1767657600-1767830399@ghspabc.org
SUMMARY:Spring Play Rehearsals Begin
DESCRIPTION:
URL:https://ghspabc.org/calendar/spring-play-rehearsals-begin/
CATEGORIES:Theater
END:VEVENT
END:VCALENDAR