BEGIN:VCALENDAR
VERSION:2.0
PRODID:-//GHS Performing Arts Boosters - ECPv6.15.20//NONSGML v1.0//EN
CALSCALE:GREGORIAN
METHOD:PUBLISH
X-WR-CALNAME:GHS Performing Arts Boosters
X-ORIGINAL-URL:https://ghspabc.org
X-WR-CALDESC:Events for GHS Performing Arts Boosters
REFRESH-INTERVAL;VALUE=DURATION:PT1H
X-Robots-Tag:noindex
X-PUBLISHED-TTL:PT1H
BEGIN:VTIMEZONE
TZID:America/New_York
BEGIN:DAYLIGHT
TZOFFSETFROM:-0500
TZOFFSETTO:-0400
TZNAME:EDT
DTSTART:20250309T070000
END:DAYLIGHT
BEGIN:STANDARD
TZOFFSETFROM:-0400
TZOFFSETTO:-0500
TZNAME:EST
DTSTART:20251102T060000
END:STANDARD
BEGIN:DAYLIGHT
TZOFFSETFROM:-0500
TZOFFSETTO:-0400
TZNAME:EDT
DTSTART:20260308T070000
END:DAYLIGHT
BEGIN:STANDARD
TZOFFSETFROM:-0400
TZOFFSETTO:-0500
TZNAME:EST
DTSTART:20261101T060000
END:STANDARD
BEGIN:DAYLIGHT
TZOFFSETFROM:-0500
TZOFFSETTO:-0400
TZNAME:EDT
DTSTART:20270314T070000
END:DAYLIGHT
BEGIN:STANDARD
TZOFFSETFROM:-0400
TZOFFSETTO:-0500
TZNAME:EST
DTSTART:20271107T060000
END:STANDARD
END:VTIMEZONE
BEGIN:VEVENT
DTSTART;TZID=America/New_York:20260501T190000
DTEND;TZID=America/New_York:20260501T210000
DTSTAMP:20260424T145929
CREATED:20260218T060324Z
LAST-MODIFIED:20260218T060619Z
UID:275-1777662000-1777669200@ghspabc.org
SUMMARY:Spring Orchestra Concert
DESCRIPTION:
URL:https://ghspabc.org/calendar/spring-orchestra-concert/
CATEGORIES:Orchestra
END:VEVENT
BEGIN:VEVENT
DTSTART;TZID=America/New_York:20260518T190000
DTEND;TZID=America/New_York:20260518T210000
DTSTAMP:20260424T145929
CREATED:20260218T060324Z
LAST-MODIFIED:20260218T060324Z
UID:276-1779130800-1779138000@ghspabc.org
SUMMARY:Spring Theatre Class Performances
DESCRIPTION:
URL:https://ghspabc.org/calendar/spring-theatre-class-performances/
CATEGORIES:Theater
END:VEVENT
BEGIN:VEVENT
DTSTART;TZID=America/New_York:20260519T170000
DTEND;TZID=America/New_York:20260519T190000
DTSTAMP:20260424T145929
CREATED:20260218T060325Z
LAST-MODIFIED:20260218T060325Z
UID:277-1779210000-1779217200@ghspabc.org
SUMMARY:Choir Banquet (Grey Commons)
DESCRIPTION:
URL:https://ghspabc.org/calendar/choir-banquet-grey-commons/
CATEGORIES:Choir
END:VEVENT
BEGIN:VEVENT
DTSTART;TZID=America/New_York:20260520T183000
DTEND;TZID=America/New_York:20260520T203000
DTSTAMP:20260424T145929
CREATED:20260218T060325Z
LAST-MODIFIED:20260218T060325Z
UID:278-1779301800-1779309000@ghspabc.org
SUMMARY:Theatre EOY Celebration/ITS Induction
DESCRIPTION:
URL:https://ghspabc.org/calendar/theatre-eoy-celebration-its-induction/
CATEGORIES:Theater
END:VEVENT
END:VCALENDAR