BEGIN:VCALENDAR
VERSION:2.0
PRODID:-//GHS Performing Arts Boosters - ECPv6.15.20//NONSGML v1.0//EN
CALSCALE:GREGORIAN
METHOD:PUBLISH
X-WR-CALNAME:GHS Performing Arts Boosters
X-ORIGINAL-URL:https://ghspabc.org
X-WR-CALDESC:Events for GHS Performing Arts Boosters
REFRESH-INTERVAL;VALUE=DURATION:PT1H
X-Robots-Tag:noindex
X-PUBLISHED-TTL:PT1H
BEGIN:VTIMEZONE
TZID:America/New_York
BEGIN:DAYLIGHT
TZOFFSETFROM:-0500
TZOFFSETTO:-0400
TZNAME:EDT
DTSTART:20250309T070000
END:DAYLIGHT
BEGIN:STANDARD
TZOFFSETFROM:-0400
TZOFFSETTO:-0500
TZNAME:EST
DTSTART:20251102T060000
END:STANDARD
BEGIN:DAYLIGHT
TZOFFSETFROM:-0500
TZOFFSETTO:-0400
TZNAME:EDT
DTSTART:20260308T070000
END:DAYLIGHT
BEGIN:STANDARD
TZOFFSETFROM:-0400
TZOFFSETTO:-0500
TZNAME:EST
DTSTART:20261101T060000
END:STANDARD
BEGIN:DAYLIGHT
TZOFFSETFROM:-0500
TZOFFSETTO:-0400
TZNAME:EDT
DTSTART:20270314T070000
END:DAYLIGHT
BEGIN:STANDARD
TZOFFSETFROM:-0400
TZOFFSETTO:-0500
TZNAME:EST
DTSTART:20271107T060000
END:STANDARD
END:VTIMEZONE
BEGIN:VEVENT
DTSTART;VALUE=DATE:20260212
DTEND;VALUE=DATE:20260215
DTSTAMP:20260424T182208
CREATED:20260218T054135Z
LAST-MODIFIED:20260218T060826Z
UID:224-1770854400-1771113599@ghspabc.org
SUMMARY:All County Orchestra snow date (@FPHS)
DESCRIPTION:
URL:https://ghspabc.org/calendar/all-county-orchestra-snow-date-fphs/
CATEGORIES:Orchestra
END:VEVENT
BEGIN:VEVENT
DTSTART;VALUE=DATE:20260206
DTEND;VALUE=DATE:20260208
DTSTAMP:20260424T182208
CREATED:20260218T052147Z
LAST-MODIFIED:20260218T060812Z
UID:211-1770336000-1770508799@ghspabc.org
SUMMARY:District Choir event (@PHS)
DESCRIPTION:
URL:https://ghspabc.org/calendar/district-choir-event-phs/
CATEGORIES:Orchestra
END:VEVENT
BEGIN:VEVENT
DTSTART;TZID=America/New_York:20260205T143000
DTEND;TZID=America/New_York:20260205T150000
DTSTAMP:20260424T182208
CREATED:20260218T052056Z
LAST-MODIFIED:20260218T060809Z
UID:207-1770301800-1770303600@ghspabc.org
SUMMARY:Orchestra rehearsal (in room)
DESCRIPTION:
URL:https://ghspabc.org/calendar/orchestra-rehearsal-in-room/
CATEGORIES:Orchestra
END:VEVENT
BEGIN:VEVENT
DTSTART;VALUE=DATE:20260205
DTEND;VALUE=DATE:20260208
DTSTAMP:20260424T182208
CREATED:20260218T052011Z
LAST-MODIFIED:20260218T052011Z
UID:205-1770249600-1770508799@ghspabc.org
SUMMARY:District Band event (@GHS)
DESCRIPTION:
URL:https://ghspabc.org/calendar/district-band-event-ghs/
CATEGORIES:Band
END:VEVENT
BEGIN:VEVENT
DTSTART;VALUE=DATE:20260205
DTEND;VALUE=DATE:20260206
DTSTAMP:20260424T182208
CREATED:20260218T052133Z
LAST-MODIFIED:20260218T060806Z
UID:209-1770249600-1770335999@ghspabc.org
SUMMARY:All-Virginia Choir Auditions (MPHS)
DESCRIPTION:
URL:https://ghspabc.org/calendar/all-virginia-choir-auditions-mphs/
CATEGORIES:Choir
END:VEVENT
BEGIN:VEVENT
DTSTART;VALUE=DATE:20260129
DTEND;VALUE=DATE:20260201
DTSTAMP:20260424T182208
CREATED:20260218T051947Z
LAST-MODIFIED:20260218T060802Z
UID:203-1769644800-1769903999@ghspabc.org
SUMMARY:All County Orchestra event (@FPHS)
DESCRIPTION:
URL:https://ghspabc.org/calendar/all-county-orchestra-event-fphs/
CATEGORIES:Orchestra
END:VEVENT
BEGIN:VEVENT
DTSTART;VALUE=DATE:20260124
DTEND;VALUE=DATE:20260125
DTSTAMP:20260424T182208
CREATED:20260218T051855Z
LAST-MODIFIED:20260218T051855Z
UID:201-1769212800-1769299199@ghspabc.org
SUMMARY:VHSL Theatre (Patriot)
DESCRIPTION:
URL:https://ghspabc.org/calendar/vhsl-theatre-patriot/
CATEGORIES:Theater
END:VEVENT
BEGIN:VEVENT
DTSTART;TZID=America/New_York:20260122T190000
DTEND;TZID=America/New_York:20260122T210000
DTSTAMP:20260424T182208
CREATED:20260218T051828Z
LAST-MODIFIED:20260218T060759Z
UID:199-1769108400-1769115600@ghspabc.org
SUMMARY:Choir Pyramid Concert
DESCRIPTION:
URL:https://ghspabc.org/calendar/choir-pyramid-concert/
CATEGORIES:Choir
END:VEVENT
BEGIN:VEVENT
DTSTART;VALUE=DATE:20260108
DTEND;VALUE=DATE:20260111
DTSTAMP:20260424T182208
CREATED:20260218T051757Z
LAST-MODIFIED:20260218T051909Z
UID:197-1767830400-1768089599@ghspabc.org
SUMMARY:All County Band event (@OPHS)
DESCRIPTION:
URL:https://ghspabc.org/calendar/all-county-band-event-ophs/
CATEGORIES:Band
END:VEVENT
BEGIN:VEVENT
DTSTART;VALUE=DATE:20260106
DTEND;VALUE=DATE:20260108
DTSTAMP:20260424T182208
CREATED:20260218T051725Z
LAST-MODIFIED:20260218T051914Z
UID:194-1767657600-1767830399@ghspabc.org
SUMMARY:Spring Play Rehearsals Begin
DESCRIPTION:
URL:https://ghspabc.org/calendar/spring-play-rehearsals-begin/
CATEGORIES:Theater
END:VEVENT
END:VCALENDAR