BEGIN:VCALENDAR
VERSION:2.0
PRODID:-//GHS Performing Arts Boosters - ECPv6.15.20//NONSGML v1.0//EN
CALSCALE:GREGORIAN
METHOD:PUBLISH
X-WR-CALNAME:GHS Performing Arts Boosters
X-ORIGINAL-URL:https://ghspabc.org
X-WR-CALDESC:Events for GHS Performing Arts Boosters
REFRESH-INTERVAL;VALUE=DURATION:PT1H
X-Robots-Tag:noindex
X-PUBLISHED-TTL:PT1H
BEGIN:VTIMEZONE
TZID:America/New_York
BEGIN:DAYLIGHT
TZOFFSETFROM:-0500
TZOFFSETTO:-0400
TZNAME:EDT
DTSTART:20250309T070000
END:DAYLIGHT
BEGIN:STANDARD
TZOFFSETFROM:-0400
TZOFFSETTO:-0500
TZNAME:EST
DTSTART:20251102T060000
END:STANDARD
BEGIN:DAYLIGHT
TZOFFSETFROM:-0500
TZOFFSETTO:-0400
TZNAME:EDT
DTSTART:20260308T070000
END:DAYLIGHT
BEGIN:STANDARD
TZOFFSETFROM:-0400
TZOFFSETTO:-0500
TZNAME:EST
DTSTART:20261101T060000
END:STANDARD
BEGIN:DAYLIGHT
TZOFFSETFROM:-0500
TZOFFSETTO:-0400
TZNAME:EDT
DTSTART:20270314T070000
END:DAYLIGHT
BEGIN:STANDARD
TZOFFSETFROM:-0400
TZOFFSETTO:-0500
TZNAME:EST
DTSTART:20271107T060000
END:STANDARD
END:VTIMEZONE
BEGIN:VEVENT
DTSTART;TZID=America/New_York:20260427T143000
DTEND;TZID=America/New_York:20260427T163000
DTSTAMP:20260424T120618
CREATED:20260218T060251Z
LAST-MODIFIED:20260218T060626Z
UID:271-1777300200-1777307400@ghspabc.org
SUMMARY:Orchestra Rehearsal (on stage)
DESCRIPTION:
URL:https://ghspabc.org/calendar/orchestra-rehearsal-on-stage-5/
CATEGORIES:Orchestra
END:VEVENT
BEGIN:VEVENT
DTSTART;TZID=America/New_York:20260428T143000
DTEND;TZID=America/New_York:20260428T163000
DTSTAMP:20260424T120618
CREATED:20260218T060252Z
LAST-MODIFIED:20260218T060252Z
UID:272-1777386600-1777393800@ghspabc.org
SUMMARY:Band Rehearsal (on stage)
DESCRIPTION:
URL:https://ghspabc.org/calendar/band-rehearsal-on-stage/
CATEGORIES:Band
END:VEVENT
BEGIN:VEVENT
DTSTART;TZID=America/New_York:20260429T190000
DTEND;TZID=America/New_York:20260429T210000
DTSTAMP:20260424T120618
CREATED:20260218T060252Z
LAST-MODIFIED:20260218T060252Z
UID:273-1777489200-1777496400@ghspabc.org
SUMMARY:Spring Band Concert
DESCRIPTION:
URL:https://ghspabc.org/calendar/spring-band-concert/
CATEGORIES:Band
END:VEVENT
BEGIN:VEVENT
DTSTART;TZID=America/New_York:20260430T190000
DTEND;TZID=America/New_York:20260430T210000
DTSTAMP:20260424T120618
CREATED:20260218T060252Z
LAST-MODIFIED:20260218T060252Z
UID:274-1777575600-1777582800@ghspabc.org
SUMMARY:Spring Choir Concert
DESCRIPTION:
URL:https://ghspabc.org/calendar/spring-choir-concert/
CATEGORIES:Choir
END:VEVENT
END:VCALENDAR